BEGIN:VCALENDAR
VERSION:2.0
PRODID:-//VRCC - ECPv6.10.2//NONSGML v1.0//EN
CALSCALE:GREGORIAN
METHOD:PUBLISH
X-WR-CALNAME:VRCC
X-ORIGINAL-URL:https://vrccministries.com
X-WR-CALDESC:Events for VRCC
REFRESH-INTERVAL;VALUE=DURATION:PT1H
X-Robots-Tag:noindex
X-PUBLISHED-TTL:PT1H
BEGIN:VTIMEZONE
TZID:Africa/Nairobi
BEGIN:STANDARD
TZOFFSETFROM:+0300
TZOFFSETTO:+0300
TZNAME:EAT
DTSTART:20240101T000000
END:STANDARD
END:VTIMEZONE
BEGIN:VEVENT
DTSTART;TZID=Africa/Nairobi:20241018T183000
DTEND;TZID=Africa/Nairobi:20241020T140000
DTSTAMP:20260422T212755
CREATED:20240925T112528Z
LAST-MODIFIED:20240925T112900Z
UID:1865-1729276200-1729432800@vrccministries.com
SUMMARY:Healing and Restoration Conference
DESCRIPTION:Event: Healing and Restoration Conference\nTheme: God’s People Are Destroyed for Lack of Knowledge\nDates: 18th – 20th October 2024 \nJoin us for a transformative Healing and Restoration Conference\, centered on the powerful theme\, “God’s People Are Destroyed for Lack of Knowledge” (Hosea 4:6). This three-day event is designed to bring spiritual renewal\, healing\, and insight to the lives of God’s people. \nThroughout the conference\, we will explore how the lack of understanding can hinder our growth and how divine knowledge can lead us to restoration and wholeness. Engage in worship\, powerful teachings\, and prayer sessions that will awaken your spirit and restore your faith. \nKey Highlights: \n\nInspirational sermons and teachings by anointed speakers\nPersonal healing and prayer sessions\nWorship led by a dynamic team of ministers\nFellowship and networking opportunities with other believers\n\nCome and be equipped with the knowledge that brings true freedom\, healing\, and transformation. This is your time to be restored in every area of your life! \nAdmission: Free (Open to all) \nDon’t miss out on this opportunity to receive God’s healing touch and wisdom! Mark your calendar for the 18th-20th October 2024.
URL:https://vrccministries.com/event/healing-and-restoration-conference/
LOCATION:Langley Free Church\, 100 Trelawney Avenue\, SL3 8RW\, B14 7PE\, KingsHeath\, Birmingham\, United Kingdom
CATEGORIES:Conference
ATTACH;FMTTYPE=image/jpeg:https://vrccministries.com/wp-content/uploads/2024/09/VRCC-Ministry.jpeg
ORGANIZER;CN="Victory Revival Christian Center":MAILTO:info@vrccministries.org
END:VEVENT
END:VCALENDAR