BEGIN:VCALENDAR
VERSION:2.0
PRODID:-//VRCC - ECPv6.10.2//NONSGML v1.0//EN
CALSCALE:GREGORIAN
METHOD:PUBLISH
X-ORIGINAL-URL:https://vrccministries.com
X-WR-CALDESC:Events for VRCC
REFRESH-INTERVAL;VALUE=DURATION:PT1H
X-Robots-Tag:noindex
X-PUBLISHED-TTL:PT1H
BEGIN:VTIMEZONE
TZID:Africa/Nairobi
BEGIN:STANDARD
TZOFFSETFROM:+0300
TZOFFSETTO:+0300
TZNAME:EAT
DTSTART:20230101T000000
END:STANDARD
END:VTIMEZONE
BEGIN:VEVENT
DTSTART;TZID=Africa/Nairobi:20230715T110000
DTEND;TZID=Africa/Nairobi:20230715T140000
DTSTAMP:20260422T205404
CREATED:20230713T140753Z
LAST-MODIFIED:20230713T140753Z
UID:1048-1689418800-1689429600@vrccministries.com
SUMMARY:Youth and Crime
DESCRIPTION:Join us on July 15\, 2023\, for a thought-provoking discussion on “Youth and Crime.” At Victory Revival Christian Centre\, we recognize the importance of addressing the challenges faced by today’s youth and finding effective solutions to empower them. \nThis event will delve into the underlying factors contributing to youth involvement in crime and explore strategies to prevent and reduce it. Our panel of experts will shed light on various topics\, including social influences\, lack of opportunities\, and the impact of community support in steering young individuals towards a brighter future. \nWe invite parents\, educators\, community leaders\, and concerned individuals to participate in this important conversation. Together\, we can create a supportive environment that equips our youth with the necessary tools\, guidance\, and resources to make positive choices and avoid the pitfalls of criminal behavior. \n  \nLunch (BBQ) shall be provided & Live Concert
URL:https://vrccministries.com/event/youth-and-crime/
LOCATION:Langley Free Church\, 100 Trelawney Avenue\, SL3 8RW\, B14 7PE\, KingsHeath\, Birmingham\, United Kingdom
CATEGORIES:Youth
ATTACH;FMTTYPE=image/jpeg:https://vrccministries.com/wp-content/uploads/2023/07/LunchBBQ.jpeg
ORGANIZER;CN="Victory Revival Christian Center":MAILTO:info@vrccministries.org
END:VEVENT
END:VCALENDAR